BEGIN:VCALENDAR
VERSION:2.0
PRODID:-//Tukios.com/
BEGIN:VEVENT
UID:989da860-8166-4e5d-bd37-43087ddcf927@www.hansonrunsvold.com
DTSTAMP:20260422T222308Z
DTSTART:20260426T210000Z
DTEND:20260426T230000Z
SUMMARY:Visitation
DESCRIPTION:
URL:https://www.hansonrunsvold.com/obituaries/ronald-knaust
LOCATION:Hanson-Runsvold Funeral Home 215 7th Street South  Fargo ND 
	58103
GEO:46.8718949;-96.7903294
END:VEVENT
END:VCALENDAR