BEGIN:VCALENDAR
VERSION:2.0
PRODID:-//Tukios.com/
BEGIN:VEVENT
UID:7a08cf4d-ca29-4508-bfbf-e16007749b44@www.hansonrunsvold.com
DTSTAMP:20260422T222403Z
DTSTART:20260426T230000Z
DTEND:20260427T000000Z
SUMMARY:Prayer Service
DESCRIPTION:
URL:https://www.hansonrunsvold.com/obituaries/ronald-knaust
LOCATION:Hanson-Runsvold Funeral Home 215 7th Street South  Fargo ND 
	58103
GEO:46.8718949;-96.7903294
END:VEVENT
END:VCALENDAR