BEGIN:VCALENDAR
VERSION:2.0
PRODID:-//Tukios.com/
BEGIN:VEVENT
UID:d75641c6-0adf-463e-9dde-408380276486@www.hansonrunsvold.com
DTSTAMP:20260422T221916Z
DTSTART:20260427T160000Z
DTEND:20260427T170000Z
SUMMARY:Funeral Service
DESCRIPTION:
URL:https://www.hansonrunsvold.com/obituaries/ronald-knaust
LOCATION:Atonement Lutheran Church 4601 S. University Dr.  Fargo ND 58104
GEO:46.8103662;-96.8058675
END:VEVENT
END:VCALENDAR