BEGIN:VCALENDAR
VERSION:2.0
PRODID:-//Tukios.com/
BEGIN:VEVENT
UID:87b39557-7efa-491d-951c-e1eee1689886@www.hansonrunsvold.com
DTSTAMP:20260422T221925Z
DTSTART:20260427T150000Z
DTEND:20260427T160000Z
SUMMARY:Visitation
DESCRIPTION:
URL:https://www.hansonrunsvold.com/obituaries/ronald-knaust
LOCATION:Atonement Lutheran Church 4601 S. University Dr.  Fargo ND 58104
GEO:46.8103662;-96.8058675
END:VEVENT
END:VCALENDAR