BEGIN:VCALENDAR
VERSION:2.0
PRODID:-//Tukios.com/
BEGIN:VEVENT
UID:c5b70301-3a0c-4ad8-863c-754f4578c349@www.hansonrunsvold.com
DTSTAMP:20260425T185535Z
DTSTART:20260501T150000Z
DTEND:20260501T160000Z
SUMMARY:Visitation
DESCRIPTION:
URL:https://www.hansonrunsvold.com/obituaries/earl-rydell
LOCATION:Hanson-Runsvold Funeral Home 215 7th Street South  Fargo ND 
	58103
GEO:46.8718949;-96.7903294
END:VEVENT
END:VCALENDAR