BEGIN:VCALENDAR
VERSION:2.0
PRODID:-//Tukios.com/
BEGIN:VEVENT
UID:12d12d9a-e9f6-4b75-8b0e-6391eec35d1f@www.hansonrunsvold.com
DTSTAMP:20260425T185653Z
DTSTART:20260501T160000Z
DTEND:20260501T170000Z
SUMMARY:Memorial Service
DESCRIPTION:
URL:https://www.hansonrunsvold.com/obituaries/earl-rydell
LOCATION:Hanson-Runsvold Funeral Home 215 7th Street South  Fargo ND 
	58103
GEO:46.8718949;-96.7903294
END:VEVENT
END:VCALENDAR