BEGIN:VCALENDAR
VERSION:2.0
PRODID:-//Tukios.com/
BEGIN:VEVENT
UID:3946b7c2-a5d5-49a1-886b-9a90a455ebdc@www.hansonrunsvold.com
DTSTAMP:20260425T185514Z
DTSTART:20260501T190000Z
DTEND:20260501T200000Z
SUMMARY:Graveside Service
DESCRIPTION:
URL:https://www.hansonrunsvold.com/obituaries/earl-rydell
LOCATION:Fargo National Cemetery 8712 40th Ave. N.  Harwood ND 58042
GEO:46.9353076;-96.934824
END:VEVENT
END:VCALENDAR