BEGIN:VCALENDAR
VERSION:2.0
PRODID:-//Tukios.com/
BEGIN:VEVENT
UID:4986af87-ca8f-46f6-91cd-a37a16d91699@www.hansonrunsvold.com
DTSTAMP:20260423T110826Z
DTSTART:20260515T170000Z
DTEND:20260515T180000Z
SUMMARY:Interment
DESCRIPTION:
URL:https://www.hansonrunsvold.com/obituaries/bradley-nelson
LOCATION: 8712 40th Avenue Northwest  Harwood ND 58042
GEO:46.9353076;-96.934824
END:VEVENT
END:VCALENDAR